BEGIN:VCALENDAR
VERSION:2.0
PRODID:-//wp-events-plugin.com//7.0.5//EN
BEGIN:VEVENT
UID:388@naturalbasingstoke.org.uk
DTSTART:20241208T100000Z
DTEND:20241208T120000Z
DTSTAMP:20241112T180452Z
URL:https://naturalbasingstoke.org.uk/events/2969/
SUMMARY:Hedge-laying with BCV
DESCRIPTION:Join our friends at Basingstoke Conservation Volunteers!\n\n20
 years or so ago\, BCV laid the hedge that runs along the eastern edge of
 this field\, which contains a fine mix of chalk-loving flora\, and is used
 by its owner used as an educational site. We returned in October 2022\, to
 start laying the hedge again\, and have visited several times since\, as
 we’ve worked our way from the northern end of the hedge\,
 southwards.\nThis will be the last chance to get involved at Lambs Field
 for many years!\n\nContact Dave Jewsbury: email or call 07393 586632.
ATTACH;FMTTYPE=image/jpeg:https://naturalbasingstoke.org.uk/wp-content/upl
 oads/2023/10/bcvlogo.gif
CATEGORIES:Third Party Event,Work Party
END:VEVENT
END:VCALENDAR