BEGIN:VCALENDAR
VERSION:2.0
PRODID:-//wp-events-plugin.com//7.0.5//EN
BEGIN:VEVENT
UID:387@naturalbasingstoke.org.uk
DTSTART:20241124T100000Z
DTEND:20241124T120000Z
DTSTAMP:20241112T180132Z
URL:https://naturalbasingstoke.org.uk/events/bcv-scything-at-cliddesden/
SUMMARY:BCV - Scything at Cliddesden
DESCRIPTION:Join our friends at Basingstoke Conservation Volunteers!\n\nFor
 several years\, we have helped the parishioners manage the churchyard at St
 Leonard’s Church in Cliddesden. It has a small meadow with grassland
 flora of sufficient quality to be rated a Site of Importance for Nature
 Conservation (SINC) by Hampshire County Council.\nCutting the meadow at the
 correct time and frequency is important to maintain the mix of flowers and
 grasses that it supports. We are returning once again\, to cut the meadow
 and carry out some selective scrub control.\nTea/Coffee\, refreshments and
 biscuits will be provided by the church.\n\nContact Barry
 Hedger: email or call 07971 036166.
ATTACH;FMTTYPE=image/jpeg:https://naturalbasingstoke.org.uk/wp-content/upl
 oads/2023/10/bcvlogo.gif
CATEGORIES:Third Party Event,Work Party
END:VEVENT
END:VCALENDAR