BEGIN:VCALENDAR
VERSION:2.0
PRODID:-//wp-events-plugin.com//7.0.5//EN
BEGIN:VEVENT
UID:392@naturalbasingstoke.org.uk
DTSTART:20250202T100000Z
DTEND:20250202T120000Z
DTSTAMP:20241112T181018Z
URL:https://naturalbasingstoke.org.uk/events/birch-bash-with-bcv-2/
SUMMARY:Birch Bash with BCV
DESCRIPTION:Join our friends at BCV in Hook Common!\n\n&nbsp\;\n\nOur
 second event for this programme working on one of HiWWT’s reserves in the
 Hook area\, which is blessed with several areas of rare heathland habitat.
 Today’s job is to cut back the birch trees that are perpetually trying to
 invade Hook Common. By cutting back the birch we will ensure that this part
 of The Common remains in good condition\, preserving the specialist
 heathland flora and fauna.\n\nContact Mike Norman: email or call 07842
 783483.
ATTACH;FMTTYPE=image/jpeg:https://naturalbasingstoke.org.uk/wp-content/upl
 oads/2023/10/bcvlogo.gif
CATEGORIES:Third Party Event,Work Party
END:VEVENT
END:VCALENDAR