BEGIN:VCALENDAR
VERSION:2.0
PRODID:-//wp-events-plugin.com//7.0.5//EN
BEGIN:VEVENT
UID:390@naturalbasingstoke.org.uk
DTSTART:20250112T100000Z
DTEND:20250112T120000Z
DTSTAMP:20241112T180755Z
URL:https://naturalbasingstoke.org.uk/events/coppicing-in-pamber-forest-wi
 th-bcv-2/
SUMMARY:Coppicing in Pamber Forest with BCV
DESCRIPTION:The first task of 2025 is at Pamber Forest\, to continue the
 coppicing work there. This vital activity helps to keep the habitat in the
 woods both varied and dynamic\, which is essential for the specialist
 woodland flora and fauna.\n\nContact David Fee: email or call 07767
 822265.
ATTACH;FMTTYPE=image/jpeg:https://naturalbasingstoke.org.uk/wp-content/upl
 oads/2023/10/bcvlogo.gif
CATEGORIES:Third Party Event,Work Party
END:VEVENT
END:VCALENDAR