BEGIN:VCALENDAR
VERSION:2.0
PRODID:-//wp-events-plugin.com//7.0.5//EN
BEGIN:VEVENT
UID:389@naturalbasingstoke.org.uk
DTSTART:20241222T100000Z
DTEND:20241222T120000Z
DTSTAMP:20241112T180622Z
URL:https://naturalbasingstoke.org.uk/events/coppicing-in-pamber-forest-wi
 th-bcv/
SUMMARY:Coppicing in Pamber Forest with BCV
DESCRIPTION:It’s a long-held BCV tradition\, dating back well into the
 last century\, to end the conservation-year at Pamber Forest.\nWe’ll be
 continuing with the winter coppicing programme\, to keep the woodland
 habitat in tip-top condition. Why not bring along some seasonal food to
 share as we sit around the fire at the winter solstice\, to see out 2024
 and look forward to 2025?\n\nContact Graham Dennis: email or call 01189
 700155.
ATTACH;FMTTYPE=image/jpeg:https://naturalbasingstoke.org.uk/wp-content/upl
 oads/2023/10/bcvlogo.gif
CATEGORIES:Third Party Event,Work Party
END:VEVENT
END:VCALENDAR