BEGIN:VCALENDAR
VERSION:2.0
PRODID:-//wp-events-plugin.com//7.0.5//EN
BEGIN:VEVENT
UID:393@naturalbasingstoke.org.uk
DTSTART:20250216T100000Z
DTEND:20250216T120000Z
DTSTAMP:20241112T181157Z
URL:https://naturalbasingstoke.org.uk/events/coppicing-with-bcv/
SUMMARY:Coppicing with BCV
DESCRIPTION:Join our friends at BCV\n\nToday we return again to Pamber
 Forest. Spring is now fast approaching\, so we are drawing towards the end
 of the coppicing season\, and our work in the forest will soon move on to
 ride-widening – so don’t miss this chance to join us as the forest
 stirs from its winder slumber and signs of spring begin to
 emerge.\n\nContact Stuart Shurlock: email or call 07848 007947.
ATTACH;FMTTYPE=image/jpeg:https://naturalbasingstoke.org.uk/wp-content/upl
 oads/2023/10/bcvlogo.gif
CATEGORIES:Third Party Event,Work Party
END:VEVENT
END:VCALENDAR