BEGIN:VCALENDAR
VERSION:2.0
PRODID:-//wp-events-plugin.com//7.0.5//EN
BEGIN:VEVENT
UID:71@naturalbasingstoke.org.uk
DTSTART:20231029T100000Z
DTEND:20231029T120000Z
DTSTAMP:20231204T222307Z
URL:https://naturalbasingstoke.org.uk/events/hedge-laying-with-basingstoke
 -conservation-volunteers/
SUMMARY:Hedge-Laying with Basingstoke Conservation Volunteers
DESCRIPTION:At Lamb's Hill in Worting\, BCV will be continuing hedge laying
 from where they finished off last winter - about 50 metres! They first laid
 this hedge over 20 years ago\, and there is scrub-bashing to be done to
 gain access along the hedge-line and thinning out poor quality and excess
 growth prior to doing the actual hedge-laying. Hedge-laying is a
 traditional method for managing farm boundaries so they are stock-proof. It
 is also very good for producing a hedge which is very dense at the base\,
 good for small birds to nest in and for lots of other wildlife\, so it's
 something we wish to encourage. Meeting at the top of Church Lane\,
 Worting\, just off the B3400. The what3words are tools.toast.dangerously
CATEGORIES:Third Party Event
END:VEVENT
END:VCALENDAR