BEGIN:VCALENDAR
VERSION:2.0
PRODID:-//wp-events-plugin.com//7.0.5//EN
BEGIN:VEVENT
UID:297@naturalbasingstoke.org.uk
DTSTART:20240226T093000Z
DTEND:20240226T120000Z
DTSTAMP:20240215T142039Z
URL:https://naturalbasingstoke.org.uk/events/local-nature-recovery-strateg
 ies-workshop/
SUMMARY:Local Nature Recovery Strategies Workshop
DESCRIPTION:This is being organised and facilitated by Hampshire &amp\;
 Isle of Wight Wildlife Trust\, on behalf of Hampshire County Council who
 are leading the development of Hampshire's LNRS. During the workshop you
 will have the opportunity to share your views on the important habitats and
 species in your local area and discuss the challenges and opportunitiesfor
 securing nature's recovery.\n\nBook your tickets
 now!\n\nhttps://www.eventbrite.co.uk/e/online-hampshire-local-nature-recove
 ry-workshop-1-tickets-815220675987?aff=oddtdtcreator
ATTACH;FMTTYPE=image/jpeg:https://naturalbasingstoke.org.uk/wp-content/upl
 oads/2024/02/nature-recovery-logo-1000.png
CATEGORIES:Third Party Event,Workshop or Lecture
END:VEVENT
END:VCALENDAR